BEGIN:VCALENDAR
VERSION:2.0
PRODID:-//Volksschule Wölbling - ECPv6.15.20//NONSGML v1.0//EN
CALSCALE:GREGORIAN
METHOD:PUBLISH
X-WR-CALNAME:Volksschule Wölbling
X-ORIGINAL-URL:https://www.volksschule-woelbling.at
X-WR-CALDESC:Veranstaltungen für Volksschule Wölbling
REFRESH-INTERVAL;VALUE=DURATION:PT1H
X-Robots-Tag:noindex
X-PUBLISHED-TTL:PT1H
BEGIN:VTIMEZONE
TZID:Europe/Vienna
BEGIN:DAYLIGHT
TZOFFSETFROM:+0100
TZOFFSETTO:+0200
TZNAME:CEST
DTSTART:20230326T010000
END:DAYLIGHT
BEGIN:STANDARD
TZOFFSETFROM:+0200
TZOFFSETTO:+0100
TZNAME:CET
DTSTART:20231029T010000
END:STANDARD
BEGIN:DAYLIGHT
TZOFFSETFROM:+0100
TZOFFSETTO:+0200
TZNAME:CEST
DTSTART:20240331T010000
END:DAYLIGHT
BEGIN:STANDARD
TZOFFSETFROM:+0200
TZOFFSETTO:+0100
TZNAME:CET
DTSTART:20241027T010000
END:STANDARD
BEGIN:DAYLIGHT
TZOFFSETFROM:+0100
TZOFFSETTO:+0200
TZNAME:CEST
DTSTART:20250330T010000
END:DAYLIGHT
BEGIN:STANDARD
TZOFFSETFROM:+0200
TZOFFSETTO:+0100
TZNAME:CET
DTSTART:20251026T010000
END:STANDARD
END:VTIMEZONE
BEGIN:VEVENT
DTSTART;VALUE=DATE:20241219
DTEND;VALUE=DATE:20241220
DTSTAMP:20260420T102616
CREATED:20240121T151115Z
LAST-MODIFIED:20241017T185523Z
UID:4400-1734566400-1734652799@www.volksschule-woelbling.at
SUMMARY:Blick & Klick
DESCRIPTION:Blick & Klick\nOrt: VS Wölbing\n1. Schulstufe
URL:https://www.volksschule-woelbling.at/event/blick-klick/
LOCATION:Volksschule Wölbling\, Oberer Markt 15\, Oberwölbling\, NÖ\, 3124
CATEGORIES:Besuch
ORGANIZER;CN="Volksschule W%C3%B6lbling":MAILTO:vs.woelbling@noeschule.at
END:VEVENT
END:VCALENDAR