BEGIN:VCALENDAR
VERSION:2.0
PRODID:-//Volksschule Wölbling - ECPv6.15.20//NONSGML v1.0//EN
CALSCALE:GREGORIAN
METHOD:PUBLISH
X-ORIGINAL-URL:https://www.volksschule-woelbling.at
X-WR-CALDESC:Veranstaltungen für Volksschule Wölbling
REFRESH-INTERVAL;VALUE=DURATION:PT1H
X-Robots-Tag:noindex
X-PUBLISHED-TTL:PT1H
BEGIN:VTIMEZONE
TZID:Europe/Vienna
BEGIN:DAYLIGHT
TZOFFSETFROM:+0100
TZOFFSETTO:+0200
TZNAME:CEST
DTSTART:20230326T010000
END:DAYLIGHT
BEGIN:STANDARD
TZOFFSETFROM:+0200
TZOFFSETTO:+0100
TZNAME:CET
DTSTART:20231029T010000
END:STANDARD
BEGIN:DAYLIGHT
TZOFFSETFROM:+0100
TZOFFSETTO:+0200
TZNAME:CEST
DTSTART:20240331T010000
END:DAYLIGHT
BEGIN:STANDARD
TZOFFSETFROM:+0200
TZOFFSETTO:+0100
TZNAME:CET
DTSTART:20241027T010000
END:STANDARD
BEGIN:DAYLIGHT
TZOFFSETFROM:+0100
TZOFFSETTO:+0200
TZNAME:CEST
DTSTART:20250330T010000
END:DAYLIGHT
BEGIN:STANDARD
TZOFFSETFROM:+0200
TZOFFSETTO:+0100
TZNAME:CET
DTSTART:20251026T010000
END:STANDARD
END:VTIMEZONE
BEGIN:VEVENT
DTSTART;VALUE=DATE:20240605
DTEND;VALUE=DATE:20240606
DTSTAMP:20260422T195304
CREATED:20240520T183942Z
LAST-MODIFIED:20240520T183942Z
UID:4674-1717545600-1717631999@www.volksschule-woelbling.at
SUMMARY:Ausflug Bio-Bauernhof
DESCRIPTION:Ausflug Bio-Bauernhof\n1. Klasse
URL:https://www.volksschule-woelbling.at/event/ausflug-bio-bauernhof/
LOCATION:Bio Bauernhof\, Landersdorf 18\, Obewrwölbling\, NÖ\, 3124\, Österreich
CATEGORIES:Ausflug
ORGANIZER;CN="Volksschule W%C3%B6lbling":MAILTO:vs.woelbling@noeschule.at
END:VEVENT
BEGIN:VEVENT
DTSTART;VALUE=DATE:20240610
DTEND;VALUE=DATE:20240611
DTSTAMP:20260422T195304
CREATED:20240520T184212Z
LAST-MODIFIED:20240520T184212Z
UID:4677-1717977600-1718063999@www.volksschule-woelbling.at
SUMMARY:Lesung in der Bücherei
DESCRIPTION:Lesung in der Bücherei\n2. Klasse
URL:https://www.volksschule-woelbling.at/event/lesung-in-der-buecherei/
LOCATION:Bücherei\, Oberer Markt 15\, Oberwölbling\, NÖ\, 3124\, Österreich
CATEGORIES:Lesung
END:VEVENT
BEGIN:VEVENT
DTSTART;VALUE=DATE:20240613
DTEND;VALUE=DATE:20240615
DTSTAMP:20260422T195304
CREATED:20240626T053520Z
LAST-MODIFIED:20240626T053622Z
UID:4784-1718236800-1718409599@www.volksschule-woelbling.at
SUMMARY:Übernachtung im Stift Göttweig
DESCRIPTION:Übernachtung im Stift Göttweig\n3.Klasse
URL:https://www.volksschule-woelbling.at/event/uebernachtung-im-stift-goettweig/
LOCATION:NÖ
CATEGORIES:Besuch
END:VEVENT
BEGIN:VEVENT
DTSTART;TZID=Europe/Vienna:20240621T160000
DTEND;TZID=Europe/Vienna:20240621T180000
DTSTAMP:20260422T195304
CREATED:20240413T175759Z
LAST-MODIFIED:20240413T175759Z
UID:4619-1718985600-1718992800@www.volksschule-woelbling.at
SUMMARY:Abschlussfest
DESCRIPTION:Abschlussfest\n21. Juni um 16 Uhr\nVS Wölbling
URL:https://www.volksschule-woelbling.at/event/abschlussfest/
LOCATION:Volksschule Wölbling\, Oberer Markt 15\, Oberwölbling\, NÖ\, 3124
CATEGORIES:Fest
ORGANIZER;CN="Volksschule W%C3%B6lbling":MAILTO:vs.woelbling@noeschule.at
END:VEVENT
BEGIN:VEVENT
DTSTART;VALUE=DATE:20240624
DTEND;VALUE=DATE:20240625
DTSTAMP:20260422T195304
CREATED:20240520T184301Z
LAST-MODIFIED:20240520T184301Z
UID:4680-1719187200-1719273599@www.volksschule-woelbling.at
SUMMARY:Ausflug Bio-Bauernhof
DESCRIPTION:Ausflug Bio-Bauernhof\n4. Klasse
URL:https://www.volksschule-woelbling.at/event/ausflug-bio-bauernhof-2/
LOCATION:Bio Bauernhof\, Landersdorf 18\, Obewrwölbling\, NÖ\, 3124\, Österreich
CATEGORIES:Ausflug
ORGANIZER;CN="Volksschule W%C3%B6lbling":MAILTO:vs.woelbling@noeschule.at
END:VEVENT
END:VCALENDAR