BEGIN:VCALENDAR
VERSION:2.0
PRODID:-//Volksschule Wölbling - ECPv6.15.20//NONSGML v1.0//EN
CALSCALE:GREGORIAN
METHOD:PUBLISH
X-WR-CALNAME:Volksschule Wölbling
X-ORIGINAL-URL:https://www.volksschule-woelbling.at
X-WR-CALDESC:Veranstaltungen für Volksschule Wölbling
REFRESH-INTERVAL;VALUE=DURATION:PT1H
X-Robots-Tag:noindex
X-PUBLISHED-TTL:PT1H
BEGIN:VTIMEZONE
TZID:Europe/Vienna
BEGIN:DAYLIGHT
TZOFFSETFROM:+0100
TZOFFSETTO:+0200
TZNAME:CEST
DTSTART:20230326T010000
END:DAYLIGHT
BEGIN:STANDARD
TZOFFSETFROM:+0200
TZOFFSETTO:+0100
TZNAME:CET
DTSTART:20231029T010000
END:STANDARD
BEGIN:DAYLIGHT
TZOFFSETFROM:+0100
TZOFFSETTO:+0200
TZNAME:CEST
DTSTART:20240331T010000
END:DAYLIGHT
BEGIN:STANDARD
TZOFFSETFROM:+0200
TZOFFSETTO:+0100
TZNAME:CET
DTSTART:20241027T010000
END:STANDARD
BEGIN:DAYLIGHT
TZOFFSETFROM:+0100
TZOFFSETTO:+0200
TZNAME:CEST
DTSTART:20250330T010000
END:DAYLIGHT
BEGIN:STANDARD
TZOFFSETFROM:+0200
TZOFFSETTO:+0100
TZNAME:CET
DTSTART:20251026T010000
END:STANDARD
END:VTIMEZONE
BEGIN:VEVENT
DTSTART;TZID=Europe/Vienna:20240902T073000
DTEND;TZID=Europe/Vienna:20240902T084500
DTSTAMP:20260422T141654
CREATED:20240706T181423Z
LAST-MODIFIED:20240706T181423Z
UID:4826-1725262200-1725266700@www.volksschule-woelbling.at
SUMMARY:Schulbeginn
DESCRIPTION:Schulbeginn
URL:https://www.volksschule-woelbling.at/event/schulbeginn/
LOCATION:Volksschule Wölbling\, Oberer Markt 15\, Oberwölbling\, NÖ\, 3124
CATEGORIES:Schuljahr
ORGANIZER;CN="Volksschule W%C3%B6lbling":MAILTO:vs.woelbling@noeschule.at
END:VEVENT
BEGIN:VEVENT
DTSTART;TZID=Europe/Vienna:20240927T080000
DTEND;TZID=Europe/Vienna:20240927T100000
DTSTAMP:20260422T141654
CREATED:20240923T142146Z
LAST-MODIFIED:20240923T142210Z
UID:4908-1727424000-1727431200@www.volksschule-woelbling.at
SUMMARY:Abfallberatung – richtige Mülltrennung
DESCRIPTION:Abfallberatung – richtige Mülltrennung\n2a\, 3a \nVS Wölbling
URL:https://www.volksschule-woelbling.at/event/abfallberatung-richtige-muelltrennung/
LOCATION:Volksschule Wölbling\, Oberer Markt 15\, Oberwölbling\, NÖ\, 3124
CATEGORIES:Info,Workshop
ORGANIZER;CN="Volksschule W%C3%B6lbling":MAILTO:vs.woelbling@noeschule.at
END:VEVENT
END:VCALENDAR