BEGIN:VCALENDAR
VERSION:2.0
PRODID:-//Volksschule Wölbling - ECPv6.15.20//NONSGML v1.0//EN
CALSCALE:GREGORIAN
METHOD:PUBLISH
X-ORIGINAL-URL:https://www.volksschule-woelbling.at
X-WR-CALDESC:Veranstaltungen für Volksschule Wölbling
REFRESH-INTERVAL;VALUE=DURATION:PT1H
X-Robots-Tag:noindex
X-PUBLISHED-TTL:PT1H
BEGIN:VTIMEZONE
TZID:Europe/Vienna
BEGIN:DAYLIGHT
TZOFFSETFROM:+0100
TZOFFSETTO:+0200
TZNAME:CEST
DTSTART:20240331T010000
END:DAYLIGHT
BEGIN:STANDARD
TZOFFSETFROM:+0200
TZOFFSETTO:+0100
TZNAME:CET
DTSTART:20241027T010000
END:STANDARD
BEGIN:DAYLIGHT
TZOFFSETFROM:+0100
TZOFFSETTO:+0200
TZNAME:CEST
DTSTART:20250330T010000
END:DAYLIGHT
BEGIN:STANDARD
TZOFFSETFROM:+0200
TZOFFSETTO:+0100
TZNAME:CET
DTSTART:20251026T010000
END:STANDARD
BEGIN:DAYLIGHT
TZOFFSETFROM:+0100
TZOFFSETTO:+0200
TZNAME:CEST
DTSTART:20260329T010000
END:DAYLIGHT
BEGIN:STANDARD
TZOFFSETFROM:+0200
TZOFFSETTO:+0100
TZNAME:CET
DTSTART:20261025T010000
END:STANDARD
END:VTIMEZONE
BEGIN:VEVENT
DTSTART;VALUE=DATE:20250213
DTEND;VALUE=DATE:20250214
DTSTAMP:20260420T051625
CREATED:20250206T060803Z
LAST-MODIFIED:20250206T060814Z
UID:5319-1739404800-1739491199@www.volksschule-woelbling.at
SUMMARY:Lesung Mattäus Bär
DESCRIPTION:Lesung Mattäus Bär\n1. Schulstufe\nBücherei Wölbling
URL:https://www.volksschule-woelbling.at/event/lesung-mattaeus-baer/
LOCATION:Bücherei\, Oberer Markt 15\, Oberwölbling\, NÖ\, 3124\, Österreich
CATEGORIES:Lesung
ORGANIZER;CN="Volksschule W%C3%B6lbling":MAILTO:vs.woelbling@noeschule.at
END:VEVENT
BEGIN:VEVENT
DTSTART;VALUE=DATE:20250223
DTEND;VALUE=DATE:20250224
DTSTAMP:20260420T051625
CREATED:20240205T150633Z
LAST-MODIFIED:20250206T060956Z
UID:4393-1740268800-1740355199@www.volksschule-woelbling.at
SUMMARY:Kooperation Kindergarten
DESCRIPTION:Kooperation Kindergarten\n3. Schulstufe\nKindergarten Wölbling
URL:https://www.volksschule-woelbling.at/event/besuch-im-kindergartenbesuch-im-kindergarten/
LOCATION:Kindergarten Wölbling\, Oberwölbling\, NÖ\, 3124
CATEGORIES:Besuch
ORGANIZER;CN="Volksschule W%C3%B6lbling":MAILTO:vs.woelbling@noeschule.at
END:VEVENT
END:VCALENDAR