BEGIN:VCALENDAR
VERSION:2.0
PRODID:-//Volksschule Wölbling - ECPv6.15.20//NONSGML v1.0//EN
CALSCALE:GREGORIAN
METHOD:PUBLISH
X-ORIGINAL-URL:https://www.volksschule-woelbling.at
X-WR-CALDESC:Veranstaltungen für Volksschule Wölbling
REFRESH-INTERVAL;VALUE=DURATION:PT1H
X-Robots-Tag:noindex
X-PUBLISHED-TTL:PT1H
BEGIN:VTIMEZONE
TZID:Europe/Vienna
BEGIN:DAYLIGHT
TZOFFSETFROM:+0100
TZOFFSETTO:+0200
TZNAME:CEST
DTSTART:20240331T010000
END:DAYLIGHT
BEGIN:STANDARD
TZOFFSETFROM:+0200
TZOFFSETTO:+0100
TZNAME:CET
DTSTART:20241027T010000
END:STANDARD
BEGIN:DAYLIGHT
TZOFFSETFROM:+0100
TZOFFSETTO:+0200
TZNAME:CEST
DTSTART:20250330T010000
END:DAYLIGHT
BEGIN:STANDARD
TZOFFSETFROM:+0200
TZOFFSETTO:+0100
TZNAME:CET
DTSTART:20251026T010000
END:STANDARD
BEGIN:DAYLIGHT
TZOFFSETFROM:+0100
TZOFFSETTO:+0200
TZNAME:CEST
DTSTART:20260329T010000
END:DAYLIGHT
BEGIN:STANDARD
TZOFFSETFROM:+0200
TZOFFSETTO:+0100
TZNAME:CET
DTSTART:20261025T010000
END:STANDARD
END:VTIMEZONE
BEGIN:VEVENT
DTSTART;TZID=Europe/Vienna:20250318T073500
DTEND;TZID=Europe/Vienna:20250318T130000
DTSTAMP:20260420T034836
CREATED:20231121T182017Z
LAST-MODIFIED:20250206T061232Z
UID:3887-1742283300-1742302800@www.volksschule-woelbling.at
SUMMARY:Aktion Landeshauptstadt
DESCRIPTION:Aktion Landeshauptstadt\nAktion Landeshauptstadt\n4a\n7.35 – 13.00 Uhr\nSt.Pölten
URL:https://www.volksschule-woelbling.at/event/fuehrung-durch-die-landeshauptstadt/
LOCATION:St. Pölten\, St. Pölten\, NÖ\, 3100\, Österreich
CATEGORIES:Info
ORGANIZER;CN="Volksschule W%C3%B6lbling":MAILTO:vs.woelbling@noeschule.at
END:VEVENT
BEGIN:VEVENT
DTSTART;TZID=Europe/Vienna:20250326T073500
DTEND;TZID=Europe/Vienna:20250326T112000
DTSTAMP:20260420T034836
CREATED:20231121T172034Z
LAST-MODIFIED:20250206T061357Z
UID:3857-1742974500-1742988000@www.volksschule-woelbling.at
SUMMARY:Kroko
DESCRIPTION:Kroko\n7.35 – 11.20 Uhr\nalle Klassen\nVS Wölbling
URL:https://www.volksschule-woelbling.at/event/kroko/
LOCATION:Volksschule Wölbling\, Oberer Markt 15\, Oberwölbling\, NÖ\, 3124
CATEGORIES:Info
ORGANIZER;CN="Volksschule W%C3%B6lbling":MAILTO:vs.woelbling@noeschule.at
END:VEVENT
END:VCALENDAR