BEGIN:VCALENDAR
VERSION:2.0
PRODID:-//Volksschule Wölbling - ECPv6.15.20//NONSGML v1.0//EN
CALSCALE:GREGORIAN
METHOD:PUBLISH
X-WR-CALNAME:Volksschule Wölbling
X-ORIGINAL-URL:https://www.volksschule-woelbling.at
X-WR-CALDESC:Veranstaltungen für Volksschule Wölbling
REFRESH-INTERVAL;VALUE=DURATION:PT1H
X-Robots-Tag:noindex
X-PUBLISHED-TTL:PT1H
BEGIN:VTIMEZONE
TZID:Europe/Vienna
BEGIN:DAYLIGHT
TZOFFSETFROM:+0100
TZOFFSETTO:+0200
TZNAME:CEST
DTSTART:20240331T010000
END:DAYLIGHT
BEGIN:STANDARD
TZOFFSETFROM:+0200
TZOFFSETTO:+0100
TZNAME:CET
DTSTART:20241027T010000
END:STANDARD
BEGIN:DAYLIGHT
TZOFFSETFROM:+0100
TZOFFSETTO:+0200
TZNAME:CEST
DTSTART:20250330T010000
END:DAYLIGHT
BEGIN:STANDARD
TZOFFSETFROM:+0200
TZOFFSETTO:+0100
TZNAME:CET
DTSTART:20251026T010000
END:STANDARD
BEGIN:DAYLIGHT
TZOFFSETFROM:+0100
TZOFFSETTO:+0200
TZNAME:CEST
DTSTART:20260329T010000
END:DAYLIGHT
BEGIN:STANDARD
TZOFFSETFROM:+0200
TZOFFSETTO:+0100
TZNAME:CET
DTSTART:20261025T010000
END:STANDARD
END:VTIMEZONE
BEGIN:VEVENT
DTSTART;VALUE=DATE:20250603
DTEND;VALUE=DATE:20250604
DTSTAMP:20260419T225652
CREATED:20240520T183524Z
LAST-MODIFIED:20250206T062320Z
UID:4672-1748908800-1748995199@www.volksschule-woelbling.at
SUMMARY:Schnuppertag Kindergarten
DESCRIPTION:Schnupperfest Kindergarten\n3. Schulstufe\nVS Wölbling
URL:https://www.volksschule-woelbling.at/event/schnuppertag-kindergarten/
LOCATION:Volksschule Wölbling\, Oberer Markt 15\, Oberwölbling\, NÖ\, 3124
CATEGORIES:Besuch
ORGANIZER;CN="Volksschule W%C3%B6lbling":MAILTO:vs.woelbling@noeschule.at
END:VEVENT
BEGIN:VEVENT
DTSTART;VALUE=DATE:20250613
DTEND;VALUE=DATE:20250614
DTSTAMP:20260419T225652
CREATED:20241214T173531Z
LAST-MODIFIED:20250206T062432Z
UID:5191-1749772800-1749859199@www.volksschule-woelbling.at
SUMMARY:Theaterfahrt Aladdin
DESCRIPTION:Theaterfahrt: Aladdin\nalle Klassen\nLandestheater Niederösterreich
URL:https://www.volksschule-woelbling.at/event/theaterfahrt-aladdin/
LOCATION:Landestheater St. Pölten\, St. Pölten\, NÖ\, 3100\, Österreich
CATEGORIES:Bühne
ORGANIZER;CN="Volksschule W%C3%B6lbling":MAILTO:vs.woelbling@noeschule.at
END:VEVENT
BEGIN:VEVENT
DTSTART;VALUE=DATE:20250617
DTEND;VALUE=DATE:20250619
DTSTAMP:20260419T225652
CREATED:20250205T203909Z
LAST-MODIFIED:20250206T062544Z
UID:3867-1750118400-1750291199@www.volksschule-woelbling.at
SUMMARY:Lesenacht
DESCRIPTION:Lesenacht\n3a und Mehrstufenklasse\nVS Wölbling
URL:https://www.volksschule-woelbling.at/event/lesenacht-2/
LOCATION:Volksschule Wölbling\, Oberer Markt 15\, Oberwölbling\, NÖ\, 3124
CATEGORIES:Info
ORGANIZER;CN="Volksschule W%C3%B6lbling":MAILTO:vs.woelbling@noeschule.at
END:VEVENT
END:VCALENDAR